BEGIN:VCALENDAR
VERSION:2.0
PRODID:icalendar-ruby
CALSCALE:GREGORIAN
METHOD:PUBLISH
BEGIN:VEVENT
DTSTAMP:20260420T225811Z
UID:10-1149236@cccomoxvalley.com
DTSTART:20261004T170000Z
DTEND:20261004T190000Z
CLASS:PUBLIC
CREATED:20260420T135601
DESCRIPTION:Please phone for location directions
LAST-MODIFIED:20260420T135601
LOCATION:Fallen Alders Hall\, Royston
SUMMARY:Sunday Morning Service
URL;VALUE=URI:https://www.cccomoxvalley.com/events/sunday-morning-service/2
 026-10-04
ATTACH;FILENAME=Welcome Sunday Morning.png;FMTTYPE=image/png:https://dq5pwp
 g1q8ru0.cloudfront.net/2025/02/13/01/23/18/a1bdf500-c949-47d9-a37a-0844b90
 2718d/Welcome%20Sunday%20Morning.png
END:VEVENT
END:VCALENDAR
