BEGIN:VCALENDAR
VERSION:2.0
PRODID:icalendar-ruby
CALSCALE:GREGORIAN
METHOD:PUBLISH
BEGIN:VEVENT
DTSTAMP:20260420T231521Z
UID:19-1149424@cccomoxvalley.com
DTSTART:20261014T020000Z
DTEND:20261014T033000Z
CLASS:PUBLIC
CREATED:20260420T135602
DESCRIPTION:
LAST-MODIFIED:20260420T135602
LOCATION:Fallen Alders Hall
SUMMARY:Men's Bible Study 
URL;VALUE=URI:https://www.cccomoxvalley.com/events/mens-bible-study--19/202
 6-10-13
ATTACH;FILENAME=Mens Bible Study with info.png;FMTTYPE=image/png:https://dq
 5pwpg1q8ru0.cloudfront.net/2026/01/28/19/36/25/99ed4a24-4405-4a97-ac46-2ea
 c9fdb5ca0/Mens%20Bible%20Study%20with%20info.png
END:VEVENT
END:VCALENDAR
